BEGIN:VCALENDAR
VERSION:2.0
PRODID:-//wp-events-plugin.com//6.4.6.4//EN
TZID:Europe/Berlin
X-WR-TIMEZONE:Europe/Berlin
BEGIN:VEVENT
UID:233@berlin-hilft.com
DTSTART:20180901T120000Z
DTEND:20180901T193000Z
DTSTAMP:20180822T182451Z
URL:https://berlin-hilft.com/events/7-dunckerstrassenfest/
SUMMARY:7. Dunckerstraßenfest
DESCRIPTION:Bis in die Lüfte erklingt die Reise der wohlfeilen Noten\, nic
 ht nur die des kulinarischen Gustos\, sondern und vor allem des auditiven 
 Geschmacks. So wird es\, wie auch in den Jahren zuvor bunte Klänge geben.
  Unser LineUp für dieses Jahr: 12 VoltAuge.blauDämseMüllerOff the RoadT
 he Soul Off Elvis & The Tender Lovin‘ Carehttps://www.facebook.com/event
 s/246545112639436/
LOCATION:Dunckerstraßenfest\, Dunckerstraßenfest\, 
X-APPLE-STRUCTURED-LOCATION;VALUE=URI;X-ADDRESS=Dunckerstraßenfest\, ;X-AP
 PLE-RADIUS=100;X-TITLE=Dunckerstraßenfest:geo:0,0
END:VEVENT
END:VCALENDAR